Package: cleanUpdTSeq Version: 1.45.1 Command: /Library/Frameworks/R.framework/Resources/bin/R CMD build --keep-empty-dirs --no-resave-data cleanUpdTSeq StartedAt: 2025-01-31 16:16:27 -0500 (Fri, 31 Jan 2025) EndedAt: 2025-01-31 16:18:03 -0500 (Fri, 31 Jan 2025) EllapsedTime: 96.7 seconds RetCode: 0 Status: OK PackageFile: cleanUpdTSeq_1.45.1.tar.gz PackageFileSize: 4.008 MiB