Package: circRNAprofiler Version: 1.21.0 Command: /home/biocbuild/R/R/bin/R CMD check --install=check:circRNAprofiler.install-out.txt --library=/home/biocbuild/R/R/site-library --no-vignettes --timings circRNAprofiler_1.21.0.tar.gz StartedAt: 2025-01-28 09:10:40 -0000 (Tue, 28 Jan 2025) EndedAt: 2025-01-28 09:23:42 -0000 (Tue, 28 Jan 2025) EllapsedTime: 781.7 seconds RetCode: 0 Status: OK CheckDir: circRNAprofiler.Rcheck Warnings: 0