Package: circRNAprofiler Version: 1.21.0 Maintainer: Simona Aufiero MaintainerEmail: simo.aufiero at gmail.com git_url: https://git.bioconductor.org/packages/circRNAprofiler git_branch: devel git_last_commit: 1018c6c git_last_commit_date: 2024-10-29 10:38:35 -0500 (Tue, 29 Oct 2024)