Package: cicero Version: 1.25.0 Command: /home/biocbuild/R/R/bin/R CMD INSTALL cicero StartedAt: 2025-01-29 20:10:05 -0000 (Wed, 29 Jan 2025) EndedAt: 2025-01-29 20:11:25 -0000 (Wed, 29 Jan 2025) EllapsedTime: 79.9 seconds RetCode: 0 Status: OK