Package: cicero Version: 1.25.0 Command: /home/biocbuild/R/R/bin/R CMD check --install=check:cicero.install-out.txt --library=/home/biocbuild/R/R/site-library --no-vignettes --timings cicero_1.25.0.tar.gz StartedAt: 2025-01-28 09:10:14 -0000 (Tue, 28 Jan 2025) EndedAt: 2025-01-28 09:21:00 -0000 (Tue, 28 Jan 2025) EllapsedTime: 645.6 seconds RetCode: 0 Status: WARNINGS CheckDir: cicero.Rcheck Warnings: 5