Package: cicero Version: 1.25.0 Command: /Library/Frameworks/R.framework/Resources/bin/R CMD INSTALL cicero StartedAt: 2025-01-31 15:16:25 -0500 (Fri, 31 Jan 2025) EndedAt: 2025-01-31 15:16:48 -0500 (Fri, 31 Jan 2025) EllapsedTime: 23.4 seconds RetCode: 0 Status: OK