Package: chipenrich Version: 2.31.0 Command: rm -rf chipenrich.buildbin-libdir && mkdir chipenrich.buildbin-libdir && E:\biocbuild\bbs-3.21-bioc\R\bin\R.exe CMD INSTALL --build --library=chipenrich.buildbin-libdir chipenrich_2.31.0.tar.gz StartedAt: 2025-02-01 06:53:41 -0500 (Sat, 01 Feb 2025) EndedAt: 2025-02-01 06:54:40 -0500 (Sat, 01 Feb 2025) EllapsedTime: 58.8 seconds RetCode: 0 Status: OK PackageFile: chipenrich_2.31.0.zip PackageFileSize: 674.9 KiB