Package: chipenrich Version: 2.31.0 Command: /Library/Frameworks/R.framework/Resources/bin/R CMD check --install=check:chipenrich.install-out.txt --library=/Library/Frameworks/R.framework/Resources/library --no-vignettes --timings chipenrich_2.31.0.tar.gz StartedAt: 2025-01-31 19:25:08 -0500 (Fri, 31 Jan 2025) EndedAt: 2025-01-31 19:33:50 -0500 (Fri, 31 Jan 2025) EllapsedTime: 522.5 seconds RetCode: 0 Status: OK CheckDir: chipenrich.Rcheck Warnings: 0