Package: cfdnakit Version: 1.5.0 Command: /home/biocbuild/bbs-3.21-bioc/R/bin/R CMD check --install=check:cfdnakit.install-out.txt --library=/home/biocbuild/bbs-3.21-bioc/R/site-library --timings cfdnakit_1.5.0.tar.gz StartedAt: 2025-01-31 20:50:58 -0500 (Fri, 31 Jan 2025) EndedAt: 2025-01-31 20:54:36 -0500 (Fri, 31 Jan 2025) EllapsedTime: 218.4 seconds RetCode: 0 Status: OK CheckDir: cfdnakit.Rcheck Warnings: 0