Package: cfdnakit Version: 1.5.0 Command: /home/biocbuild/bbs-3.21-bioc/R/bin/R CMD build --keep-empty-dirs --no-resave-data cfdnakit StartedAt: 2025-01-31 16:38:54 -0500 (Fri, 31 Jan 2025) EndedAt: 2025-01-31 16:39:38 -0500 (Fri, 31 Jan 2025) EllapsedTime: 44.1 seconds RetCode: 0 Status: OK PackageFile: cfdnakit_1.5.0.tar.gz PackageFileSize: 3.085 MiB