Package: censcyt Version: 1.15.0 Command: E:\biocbuild\bbs-3.21-bioc\R\bin\R.exe CMD INSTALL censcyt StartedAt: 2025-01-31 16:51:45 -0500 (Fri, 31 Jan 2025) EndedAt: 2025-01-31 16:52:24 -0500 (Fri, 31 Jan 2025) EllapsedTime: 38.5 seconds RetCode: 0 Status: OK