Package: cellscape Version: 1.31.0 Command: rm -rf cellscape.buildbin-libdir && mkdir cellscape.buildbin-libdir && /Users/biocbuild/BBS/utils/build-universal.sh cellscape_1.31.0.tar.gz /Library/Frameworks/R.framework/Resources/bin/R cellscape.buildbin-libdir StartedAt: 2025-02-01 00:10:18 -0500 (Sat, 01 Feb 2025) EndedAt: 2025-02-01 00:10:25 -0500 (Sat, 01 Feb 2025) EllapsedTime: 6.9 seconds RetCode: 0 Status: OK PackageFile: cellscape_1.31.0.tgz PackageFileSize: 884.4 KiB