Package: cellmigRation Version: 1.15.0 Command: E:\biocbuild\bbs-3.21-bioc\R\bin\R.exe CMD INSTALL cellmigRation StartedAt: 2025-01-31 16:39:21 -0500 (Fri, 31 Jan 2025) EndedAt: 2025-01-31 16:40:50 -0500 (Fri, 31 Jan 2025) EllapsedTime: 88.3 seconds RetCode: 0 Status: OK