Package: ceRNAnetsim Version: 1.19.0 Command: rm -rf ceRNAnetsim.buildbin-libdir && mkdir ceRNAnetsim.buildbin-libdir && /Users/biocbuild/BBS/utils/build-universal.sh ceRNAnetsim_1.19.0.tar.gz /Library/Frameworks/R.framework/Resources/bin/R ceRNAnetsim.buildbin-libdir StartedAt: 2025-01-31 22:10:48 -0500 (Fri, 31 Jan 2025) EndedAt: 2025-01-31 22:10:51 -0500 (Fri, 31 Jan 2025) EllapsedTime: 3.1 seconds RetCode: 0 Status: OK PackageFile: ceRNAnetsim_1.19.0.tgz PackageFileSize: 2.589 MiB