Package: ccmap Version: 1.33.0 Command: /home/biocbuild/bbs-3.21-bioc/R/bin/R CMD build --keep-empty-dirs --no-resave-data ccmap StartedAt: 2025-01-31 16:35:36 -0500 (Fri, 31 Jan 2025) EndedAt: 2025-01-31 16:35:53 -0500 (Fri, 31 Jan 2025) EllapsedTime: 17.0 seconds RetCode: 1 Status: ERROR PackageFile: None PackageFileSize: NA