Package: ccfindR Version: 1.27.0 Command: /Library/Frameworks/R.framework/Resources/bin/R CMD build --keep-empty-dirs --no-resave-data ccfindR StartedAt: 2025-01-31 16:10:57 -0500 (Fri, 31 Jan 2025) EndedAt: 2025-01-31 16:10:58 -0500 (Fri, 31 Jan 2025) EllapsedTime: 1.1 seconds RetCode: 1 Status: ERROR PackageFile: None PackageFileSize: NA