Package: cbpManager Version: 1.15.0 Command: E:\biocbuild\bbs-3.21-bioc\R\bin\R.exe CMD INSTALL cbpManager StartedAt: 2025-02-02 15:50:12 -0500 (Sun, 02 Feb 2025) EndedAt: 2025-02-02 15:51:12 -0500 (Sun, 02 Feb 2025) EllapsedTime: 59.4 seconds RetCode: 0 Status: OK