Package: cbaf Version: 1.29.0 Command: /Library/Frameworks/R.framework/Resources/bin/R CMD build --keep-empty-dirs --no-resave-data cbaf StartedAt: 2025-01-31 15:48:05 -0500 (Fri, 31 Jan 2025) EndedAt: 2025-01-31 15:48:30 -0500 (Fri, 31 Jan 2025) EllapsedTime: 25.3 seconds RetCode: 0 Status: OK PackageFile: cbaf_1.29.0.tar.gz PackageFileSize: 786.1 KiB