Package: canceR Version: 1.41.0 Command: /home/biocbuild/R/R/bin/R CMD check --install=check:canceR.install-out.txt --library=/home/biocbuild/R/R/site-library --no-vignettes --timings canceR_1.41.0.tar.gz StartedAt: 2025-01-28 08:53:52 -0000 (Tue, 28 Jan 2025) EndedAt: 2025-01-28 09:03:37 -0000 (Tue, 28 Jan 2025) EllapsedTime: 585.4 seconds RetCode: 0 Status: WARNINGS CheckDir: canceR.Rcheck Warnings: 6