Package: cageminer Version: 1.13.0 Command: /home/biocbuild/R/R/bin/R CMD INSTALL cageminer StartedAt: 2025-01-29 20:31:55 -0000 (Wed, 29 Jan 2025) EndedAt: 2025-01-29 20:33:11 -0000 (Wed, 29 Jan 2025) EllapsedTime: 75.8 seconds RetCode: 0 Status: OK