Package: brendaDb Version: 1.21.0 Command: /Library/Frameworks/R.framework/Resources/bin/R CMD check --install=check:brendaDb.install-out.txt --library=/Library/Frameworks/R.framework/Resources/library --no-vignettes --timings brendaDb_1.21.0.tar.gz StartedAt: 2025-01-31 18:21:33 -0500 (Fri, 31 Jan 2025) EndedAt: 2025-01-31 18:22:02 -0500 (Fri, 31 Jan 2025) EllapsedTime: 28.3 seconds RetCode: 0 Status: OK CheckDir: brendaDb.Rcheck Warnings: 0