Package: branchpointer Version: 1.33.0 Command: /home/biocbuild/bbs-3.21-bioc/R/bin/R CMD INSTALL branchpointer StartedAt: 2025-01-31 15:52:08 -0500 (Fri, 31 Jan 2025) EndedAt: 2025-01-31 15:53:01 -0500 (Fri, 31 Jan 2025) EllapsedTime: 52.3 seconds RetCode: 0 Status: OK