Package: bnem Version: 1.15.0 Command: /Library/Frameworks/R.framework/Resources/bin/R CMD check --install=check:bnem.install-out.txt --library=/Library/Frameworks/R.framework/Resources/library --no-vignettes --timings bnem_1.15.0.tar.gz StartedAt: 2025-01-31 19:11:00 -0500 (Fri, 31 Jan 2025) EndedAt: 2025-01-31 19:15:39 -0500 (Fri, 31 Jan 2025) EllapsedTime: 279.0 seconds RetCode: 0 Status: OK CheckDir: bnem.Rcheck Warnings: 0