Package: bluster Version: 1.17.0 Command: /Library/Frameworks/R.framework/Resources/bin/R CMD INSTALL bluster StartedAt: 2025-01-31 15:19:57 -0500 (Fri, 31 Jan 2025) EndedAt: 2025-01-31 15:20:23 -0500 (Fri, 31 Jan 2025) EllapsedTime: 26.1 seconds RetCode: 0 Status: OK