Package: bluster Version: 1.17.0 Command: /home/biocbuild/R/R/bin/R CMD INSTALL bluster StartedAt: 2025-01-29 19:51:07 -0000 (Wed, 29 Jan 2025) EndedAt: 2025-01-29 19:51:39 -0000 (Wed, 29 Jan 2025) EllapsedTime: 32.0 seconds RetCode: 0 Status: OK