Package: blima Version: 1.41.0 Command: /home/biocbuild/bbs-3.21-bioc/R/bin/R CMD INSTALL blima StartedAt: 2025-01-31 15:29:04 -0500 (Fri, 31 Jan 2025) EndedAt: 2025-01-31 15:29:27 -0500 (Fri, 31 Jan 2025) EllapsedTime: 22.9 seconds RetCode: 0 Status: OK