Package: blima Version: 1.41.0 Command: /home/biocbuild/bbs-3.21-bioc/R/bin/R CMD check --install=check:blima.install-out.txt --library=/home/biocbuild/bbs-3.21-bioc/R/site-library --timings blima_1.41.0.tar.gz StartedAt: 2025-01-31 20:31:21 -0500 (Fri, 31 Jan 2025) EndedAt: 2025-01-31 20:37:42 -0500 (Fri, 31 Jan 2025) EllapsedTime: 380.7 seconds RetCode: 0 Status: OK CheckDir: blima.Rcheck Warnings: 0