Package: biotmle Version: 1.31.0 Command: /home/biocbuild/bbs-3.21-bioc/R/bin/R CMD INSTALL biotmle StartedAt: 2025-02-02 15:53:10 -0500 (Sun, 02 Feb 2025) EndedAt: 2025-02-02 15:53:35 -0500 (Sun, 02 Feb 2025) EllapsedTime: 24.3 seconds RetCode: 0 Status: OK