Package: biosigner Version: 1.35.0 Command: /home/biocbuild/R/R/bin/R CMD INSTALL biosigner StartedAt: 2025-01-29 20:30:42 -0000 (Wed, 29 Jan 2025) EndedAt: 2025-01-29 20:31:19 -0000 (Wed, 29 Jan 2025) EllapsedTime: 37.7 seconds RetCode: 0 Status: OK