Package: biodbNci Version: 1.11.0 Command: /home/biocbuild/bbs-3.21-bioc/R/bin/R CMD INSTALL biodbNci StartedAt: 2025-01-31 15:43:52 -0500 (Fri, 31 Jan 2025) EndedAt: 2025-01-31 15:44:22 -0500 (Fri, 31 Jan 2025) EllapsedTime: 29.8 seconds RetCode: 0 Status: OK