Package: biodbNci Version: 1.11.0 Command: /Library/Frameworks/R.framework/Resources/bin/R CMD INSTALL biodbNci StartedAt: 2025-01-31 15:32:25 -0500 (Fri, 31 Jan 2025) EndedAt: 2025-01-31 15:32:59 -0500 (Fri, 31 Jan 2025) EllapsedTime: 34.1 seconds RetCode: 0 Status: OK