Package: biodbNcbi Version: 1.11.0 Command: E:\biocbuild\bbs-3.21-bioc\R\bin\R.exe CMD check --no-multiarch --install=check:biodbNcbi.install-out.txt --library=E:\biocbuild\bbs-3.21-bioc\R\library --no-vignettes --timings biodbNcbi_1.11.0.tar.gz StartedAt: 2025-01-31 22:47:54 -0500 (Fri, 31 Jan 2025) EndedAt: 2025-01-31 22:54:02 -0500 (Fri, 31 Jan 2025) EllapsedTime: 367.6 seconds RetCode: 0 Status: OK CheckDir: biodbNcbi.Rcheck Warnings: 0