Package: biodbNcbi Version: 1.11.0 Command: rm -rf biodbNcbi.buildbin-libdir && mkdir biodbNcbi.buildbin-libdir && E:\biocbuild\bbs-3.21-bioc\R\bin\R.exe CMD INSTALL --build --library=biodbNcbi.buildbin-libdir biodbNcbi_1.11.0.tar.gz StartedAt: 2025-02-01 06:47:18 -0500 (Sat, 01 Feb 2025) EndedAt: 2025-02-01 06:47:48 -0500 (Sat, 01 Feb 2025) EllapsedTime: 29.6 seconds RetCode: 0 Status: OK PackageFile: biodbNcbi_1.11.0.zip PackageFileSize: 1.136 MiB