Package: biodbNcbi Version: 1.11.0 Command: /home/biocbuild/bbs-3.21-bioc/R/bin/R CMD INSTALL biodbNcbi StartedAt: 2025-01-31 15:44:03 -0500 (Fri, 31 Jan 2025) EndedAt: 2025-01-31 15:44:14 -0500 (Fri, 31 Jan 2025) EllapsedTime: 10.4 seconds RetCode: 0 Status: OK