Package: biodbNcbi Version: 1.11.0 Command: /home/biocbuild/R/R/bin/R CMD INSTALL biodbNcbi StartedAt: 2025-01-29 20:25:35 -0000 (Wed, 29 Jan 2025) EndedAt: 2025-01-29 20:25:51 -0000 (Wed, 29 Jan 2025) EllapsedTime: 15.3 seconds RetCode: 0 Status: OK