Package: biodbHmdb Version: 1.13.0 Command: /Library/Frameworks/R.framework/Resources/bin/R CMD check --install=check:biodbHmdb.install-out.txt --library=/Library/Frameworks/R.framework/Resources/library --no-vignettes --timings biodbHmdb_1.13.0.tar.gz StartedAt: 2025-01-31 19:05:49 -0500 (Fri, 31 Jan 2025) EndedAt: 2025-01-31 19:06:49 -0500 (Fri, 31 Jan 2025) EllapsedTime: 59.8 seconds RetCode: 0 Status: WARNINGS CheckDir: biodbHmdb.Rcheck Warnings: 1