Package: biodbChebi Version: 1.13.0 Command: /home/biocbuild/bbs-3.21-bioc/R/bin/R CMD check --install=check:biodbChebi.install-out.txt --library=/home/biocbuild/bbs-3.21-bioc/R/site-library --timings biodbChebi_1.13.0.tar.gz StartedAt: 2025-01-31 20:27:04 -0500 (Fri, 31 Jan 2025) EndedAt: 2025-01-31 20:29:02 -0500 (Fri, 31 Jan 2025) EllapsedTime: 118.2 seconds RetCode: 0 Status: OK CheckDir: biodbChebi.Rcheck Warnings: 0