Package: biodbChebi Version: 1.13.0 Command: /Library/Frameworks/R.framework/Resources/bin/R CMD INSTALL biodbChebi StartedAt: 2025-01-31 15:32:56 -0500 (Fri, 31 Jan 2025) EndedAt: 2025-01-31 15:33:07 -0500 (Fri, 31 Jan 2025) EllapsedTime: 10.6 seconds RetCode: 0 Status: OK