Package: biocthis Version: 1.17.0 Command: /Library/Frameworks/R.framework/Resources/bin/R CMD INSTALL biocthis StartedAt: 2025-01-31 15:20:58 -0500 (Fri, 31 Jan 2025) EndedAt: 2025-01-31 15:21:03 -0500 (Fri, 31 Jan 2025) EllapsedTime: 5.0 seconds RetCode: 0 Status: OK