Package: biocthis Version: 1.17.0 Command: /Library/Frameworks/R.framework/Resources/bin/R CMD check --install=check:biocthis.install-out.txt --library=/Library/Frameworks/R.framework/Resources/library --no-vignettes --timings biocthis_1.17.0.tar.gz StartedAt: 2025-01-31 19:05:22 -0500 (Fri, 31 Jan 2025) EndedAt: 2025-01-31 19:06:04 -0500 (Fri, 31 Jan 2025) EllapsedTime: 41.5 seconds RetCode: 0 Status: OK CheckDir: biocthis.Rcheck Warnings: 0