Package: biocthis Version: 1.17.0 Command: /Library/Frameworks/R.framework/Resources/bin/R CMD build --keep-empty-dirs --no-resave-data biocthis StartedAt: 2025-01-31 16:03:37 -0500 (Fri, 31 Jan 2025) EndedAt: 2025-01-31 16:03:58 -0500 (Fri, 31 Jan 2025) EllapsedTime: 20.7 seconds RetCode: 0 Status: OK PackageFile: biocthis_1.17.0.tar.gz PackageFileSize: 658.1 KiB