Package: biocthis Version: 1.17.0 Command: rm -rf biocthis.buildbin-libdir && mkdir biocthis.buildbin-libdir && /Users/biocbuild/BBS/utils/build-universal.sh biocthis_1.17.0.tar.gz /Library/Frameworks/R.framework/Resources/bin/R biocthis.buildbin-libdir StartedAt: 2025-02-01 00:08:29 -0500 (Sat, 01 Feb 2025) EndedAt: 2025-02-01 00:08:37 -0500 (Sat, 01 Feb 2025) EllapsedTime: 8.1 seconds RetCode: 0 Status: OK PackageFile: biocthis_1.17.0.tgz PackageFileSize: 702.3 KiB