Package: bioCancer Version: 1.35.0 Command: chmod a+r bioCancer -R && E:\biocbuild\bbs-3.21-bioc\R\bin\R.exe CMD build --keep-empty-dirs --no-resave-data bioCancer StartedAt: 2025-01-31 17:20:50 -0500 (Fri, 31 Jan 2025) EndedAt: 2025-01-31 17:22:27 -0500 (Fri, 31 Jan 2025) EllapsedTime: 96.7 seconds RetCode: 0 Status: OK PackageFile: bioCancer_1.35.0.tar.gz PackageFileSize: 9.457 MiB