Package: bettr Version: 1.3.0 Command: /Library/Frameworks/R.framework/Resources/bin/R CMD INSTALL bettr StartedAt: 2025-01-31 15:25:56 -0500 (Fri, 31 Jan 2025) EndedAt: 2025-01-31 15:26:31 -0500 (Fri, 31 Jan 2025) EllapsedTime: 35.5 seconds RetCode: 0 Status: OK