Package: bettr Version: 1.3.0 Command: /home/biocbuild/R/R/bin/R CMD INSTALL bettr StartedAt: 2025-01-29 20:09:29 -0000 (Wed, 29 Jan 2025) EndedAt: 2025-01-29 20:10:06 -0000 (Wed, 29 Jan 2025) EllapsedTime: 37.1 seconds RetCode: 0 Status: OK