Package: bettr Version: 1.3.0 Command: /Library/Frameworks/R.framework/Resources/bin/R CMD INSTALL bettr StartedAt: 2025-02-16 15:16:54 -0500 (Sun, 16 Feb 2025) EndedAt: 2025-02-16 15:17:05 -0500 (Sun, 16 Feb 2025) EllapsedTime: 10.8 seconds RetCode: 0 Status: OK