Package: bettr Version: 1.3.0 Command: /Library/Frameworks/R.framework/Resources/bin/R CMD check --install=check:bettr.install-out.txt --library=/Library/Frameworks/R.framework/Resources/library --no-vignettes --timings bettr_1.3.0.tar.gz StartedAt: 2025-02-16 18:06:29 -0500 (Sun, 16 Feb 2025) EndedAt: 2025-02-16 18:07:50 -0500 (Sun, 16 Feb 2025) EllapsedTime: 81.0 seconds RetCode: 0 Status: OK CheckDir: bettr.Rcheck Warnings: 0