Package: betaHMM Version: 1.3.1 Command: /home/biocbuild/bbs-3.21-bioc/R/bin/R CMD INSTALL betaHMM StartedAt: 2025-01-31 15:16:42 -0500 (Fri, 31 Jan 2025) EndedAt: 2025-01-31 15:17:07 -0500 (Fri, 31 Jan 2025) EllapsedTime: 24.6 seconds RetCode: 0 Status: OK