Package: betaHMM Version: 1.3.1 Command: /home/biocbuild/bbs-3.21-bioc/R/bin/R CMD check --install=check:betaHMM.install-out.txt --library=/home/biocbuild/bbs-3.21-bioc/R/site-library --timings betaHMM_1.3.1.tar.gz StartedAt: 2025-01-31 20:19:17 -0500 (Fri, 31 Jan 2025) EndedAt: 2025-01-31 20:31:57 -0500 (Fri, 31 Jan 2025) EllapsedTime: 760.2 seconds RetCode: 0 Status: OK CheckDir: betaHMM.Rcheck Warnings: 0