Package: beadarray Version: 2.57.0 Command: /home/biocbuild/R/R/bin/R CMD build --keep-empty-dirs --no-resave-data beadarray StartedAt: 2025-01-29 21:04:54 -0000 (Wed, 29 Jan 2025) EndedAt: 2025-01-29 21:09:16 -0000 (Wed, 29 Jan 2025) EllapsedTime: 262.1 seconds RetCode: 0 Status: OK PackageFile: beadarray_2.57.0.tar.gz PackageFileSize: 2.883 MiB